BEGIN:VCALENDAR
VERSION:2.0
CALSCALE:GREGORIAN
METHOD:PUBLISH
X-WR-TIMEZONE:Australia/Sydney
BEGIN:VTIMEZONE
TZID:Australia/Sydney
BEGIN:STANDARD
TZNAME:AEST
END:STANDARD
END:VTIMEZONE
BEGIN:VEVENT
DTSTART;TZID=Australia/Sydney:20200217T090000
DTEND;TZID=Australia/Sydney:20200217T103000
DTSTAMP:20200226T180229
UID:28
SUMMARY:Parents &amp; Friends Association Annual General Meeting
DESCRIPTION:




PFA AGM held in the Multipurpose Building.


SEQUENCE:0
STATUS:CONFIRMED
TRANSP:OPAQUE
END:VEVENT
END:VCALENDAR