BEGIN:VCALENDAR
VERSION:2.0
CALSCALE:GREGORIAN
METHOD:PUBLISH
X-WR-TIMEZONE:Australia/Sydney
BEGIN:VTIMEZONE
TZID:Australia/Sydney
BEGIN:STANDARD
TZNAME:AEST
END:STANDARD
END:VTIMEZONE
BEGIN:VEVENT
DTSTART;TZID=Australia/Sydney:20230303T144500
DTEND;TZID=Australia/Sydney:20230303T153000
DTSTAMP:20260425T042955
UID:29
SUMMARY:Captains Badge Presentation - Feat Jacinta Allan
DESCRIPTION:




Badges will be presented to both School Captains and House Captains by The Hon. Jacinta Allan (the member for Bendigo East).


SEQUENCE:0
STATUS:CONFIRMED
TRANSP:OPAQUE
END:VEVENT
END:VCALENDAR