BEGIN:VCALENDAR
VERSION:2.0
CALSCALE:GREGORIAN
METHOD:PUBLISH
X-WR-TIMEZONE:Australia/Sydney
BEGIN:VTIMEZONE
TZID:Australia/Sydney
BEGIN:STANDARD
TZNAME:AEST
END:STANDARD
END:VTIMEZONE
BEGIN:VEVENT
DTSTART;TZID=Australia/Sydney:20200227T170000
DTEND;TZID=Australia/Sydney:20200227T180000
DTSTAMP:20200226T180239
UID:32
SUMMARY:Quarry Hill Primary School Expo
DESCRIPTION:




Information Expo&amp;nbsp;held in&amp;nbsp;The Quadrangle.


SEQUENCE:0
STATUS:CONFIRMED
TRANSP:OPAQUE
END:VEVENT
END:VCALENDAR